BEGIN:VCALENDAR
PRODID:-//github.com/rianjs/ical.net//NONSGML ical.net 4.0//EN
VERSION:2.0
BEGIN:VTIMEZONE
TZID:Eastern Standard Time
X-LIC-LOCATION:America/New_York
BEGIN:STANDARD
DTSTART:20241103T020000
RRULE:FREQ=YEARLY;BYDAY=1SU;BYMONTH=11
TZNAME:EST
TZOFFSETFROM:-0400
TZOFFSETTO:-0500
END:STANDARD
BEGIN:DAYLIGHT
DTSTART:20250309T020000
RRULE:FREQ=YEARLY;BYDAY=2SU;BYMONTH=3
TZNAME:EDT
TZOFFSETFROM:-0500
TZOFFSETTO:-0400
END:DAYLIGHT
END:VTIMEZONE
BEGIN:VEVENT
DESCRIPTION:2021 Fall Conference by the American Academy of Neurology\n\nT
 itle: Neurology Update 6: Autonomic Disorders and Neuromuscular Disease\n
 \nAccess URL: https://www.aan.com/msa/Public/Events/GetEventURL/14073\n\n
 Learn More About This Event: https://www.aan.com/msa/Public/Events/Detail
 s/14073
DTEND;TZID=Eastern Standard Time:20211107T140000
DTSTAMP:20260424T054219Z
DTSTART;TZID=Eastern Standard Time:20211107T123000
LOCATION:https://www.aan.com/msa/Public/Events/GetEventURL/14073
SEQUENCE:0
SUMMARY:AAN: Neurology Update 6: Autonomic Disorders and Neuromuscular Dis
 ease
UID:42f4b4ec-0dfd-4f3e-b98b-459d968cb99a
END:VEVENT
END:VCALENDAR
