BEGIN:VCALENDAR
PRODID:-//github.com/rianjs/ical.net//NONSGML ical.net 4.0//EN
VERSION:2.0
BEGIN:VEVENT
DESCRIPTION:2008 Annual Meeting by the American Academy of Neurology\n\nTi
 tle: Hot Topics Plenary Session\n\nAccess URL: https://www.aan.com/msa/Pu
 blic/Events/GetEventURL/1410\n\nLearn More About This Event: https://www.
 aan.com/msa/Public/Events/Details/1410
DTEND:20080415T181500
DTSTAMP:20260424T054101Z
DTSTART:20080415T171500
LOCATION:https://www.aan.com/msa/Public/Events/GetEventURL/1410
SEQUENCE:0
SUMMARY:AAN: Hot Topics Plenary Session
UID:905685ee-7f9f-4cbc-b8ea-bd55557cf688
END:VEVENT
END:VCALENDAR
