BEGIN:VCALENDAR
PRODID:-//github.com/rianjs/ical.net//NONSGML ical.net 4.0//EN
VERSION:2.0
BEGIN:VTIMEZONE
TZID:Pacific Standard Time
X-LIC-LOCATION:America/Los_Angeles
BEGIN:STANDARD
DTSTART:20241103T020000
RRULE:FREQ=YEARLY;BYDAY=1SU;BYMONTH=11
TZNAME:PST
TZOFFSETFROM:-0700
TZOFFSETTO:-0800
END:STANDARD
BEGIN:DAYLIGHT
DTSTART:20250309T020000
RRULE:FREQ=YEARLY;BYDAY=2SU;BYMONTH=3
TZNAME:PDT
TZOFFSETFROM:-0800
TZOFFSETTO:-0700
END:DAYLIGHT
END:VTIMEZONE
BEGIN:VEVENT
DESCRIPTION:2022 Annual Meeting by the American Academy of Neurology\n\nTi
 tle: Tics/Tourette’s and Paroxysmal Movement Disorders\n\nAccess URL: htt
 ps://www.aan.com/msa/Public/Events/GetEventURL/14105\n\nLearn More About 
 This Event: https://www.aan.com/msa/Public/Events/Details/14105
DTEND;TZID=Pacific Standard Time:20220402T141500
DTSTAMP:20260424T054104Z
DTSTART;TZID=Pacific Standard Time:20220402T121500
LOCATION:https://www.aan.com/msa/Public/Events/GetEventURL/14105
SEQUENCE:0
SUMMARY:AAN: Tics/Tourette’s and Paroxysmal Movement Disorders
UID:5c8dc649-2238-4146-b01d-e727e9948470
END:VEVENT
END:VCALENDAR
