BEGIN:VCALENDAR
PRODID:-//github.com/rianjs/ical.net//NONSGML ical.net 4.0//EN
VERSION:2.0
BEGIN:VTIMEZONE
TZID:Pacific Standard Time
X-LIC-LOCATION:America/Los_Angeles
BEGIN:STANDARD
DTSTART:20241103T020000
RRULE:FREQ=YEARLY;BYDAY=1SU;BYMONTH=11
TZNAME:PST
TZOFFSETFROM:-0700
TZOFFSETTO:-0800
END:STANDARD
BEGIN:DAYLIGHT
DTSTART:20250309T020000
RRULE:FREQ=YEARLY;BYDAY=2SU;BYMONTH=3
TZNAME:PDT
TZOFFSETFROM:-0800
TZOFFSETTO:-0700
END:DAYLIGHT
END:VTIMEZONE
BEGIN:VEVENT
DESCRIPTION:2022 Annual Meeting by the American Academy of Neurology\n\nTi
 tle: Controversies in Stroke Treatment and Prevention\n\nAccess URL: http
 s://www.aan.com/msa/Public/Events/GetEventURL/14112\n\nLearn More About T
 his Event: https://www.aan.com/msa/Public/Events/Details/14112
DTEND;TZID=Pacific Standard Time:20220402T164500
DTSTAMP:20260424T054032Z
DTSTART;TZID=Pacific Standard Time:20220402T144500
LOCATION:https://www.aan.com/msa/Public/Events/GetEventURL/14112
SEQUENCE:0
SUMMARY:AAN: Controversies in Stroke Treatment and Prevention
UID:c9078955-d9c4-4a47-9e5b-0feb8e30e5bd
END:VEVENT
END:VCALENDAR
