BEGIN:VCALENDAR
PRODID:-//github.com/rianjs/ical.net//NONSGML ical.net 4.0//EN
VERSION:2.0
BEGIN:VTIMEZONE
TZID:Pacific Standard Time
X-LIC-LOCATION:America/Los_Angeles
BEGIN:STANDARD
DTSTART:20241103T020000
RRULE:FREQ=YEARLY;BYDAY=1SU;BYMONTH=11
TZNAME:PST
TZOFFSETFROM:-0700
TZOFFSETTO:-0800
END:STANDARD
BEGIN:DAYLIGHT
DTSTART:20250309T020000
RRULE:FREQ=YEARLY;BYDAY=2SU;BYMONTH=3
TZNAME:PDT
TZOFFSETFROM:-0800
TZOFFSETTO:-0700
END:DAYLIGHT
END:VTIMEZONE
BEGIN:VEVENT
DESCRIPTION:2022 Annual Meeting by the American Academy of Neurology\n\nTi
 tle: Basics of Coding: E&M\, Procedures\, Telehealth\, and New Codes\n\nA
 ccess URL: https://www.aan.com/msa/Public/Events/GetEventURL/14117\n\nLea
 rn More About This Event: https://www.aan.com/msa/Public/Events/Details/1
 4117
DTEND;TZID=Pacific Standard Time:20220402T164500
DTSTAMP:20260424T054137Z
DTSTART;TZID=Pacific Standard Time:20220402T144500
LOCATION:https://www.aan.com/msa/Public/Events/GetEventURL/14117
SEQUENCE:0
SUMMARY:AAN: Basics of Coding: E&M\, Procedures\, Telehealth\, and New Cod
 es
UID:4344bf51-30f7-4c3b-9215-0cc4fa794156
END:VEVENT
END:VCALENDAR
