BEGIN:VCALENDAR
PRODID:-//github.com/rianjs/ical.net//NONSGML ical.net 4.0//EN
VERSION:2.0
BEGIN:VTIMEZONE
TZID:Eastern Standard Time
X-LIC-LOCATION:America/New_York
BEGIN:STANDARD
DTSTART:20241103T020000
RRULE:FREQ=YEARLY;BYDAY=1SU;BYMONTH=11
TZNAME:EST
TZOFFSETFROM:-0400
TZOFFSETTO:-0500
END:STANDARD
BEGIN:DAYLIGHT
DTSTART:20250309T020000
RRULE:FREQ=YEARLY;BYDAY=2SU;BYMONTH=3
TZNAME:EDT
TZOFFSETFROM:-0500
TZOFFSETTO:-0400
END:DAYLIGHT
END:VTIMEZONE
BEGIN:VEVENT
DESCRIPTION:2021 Fall Conference by the American Academy of Neurology\n\nT
 itle: Advanced Practice Provider Networking Session\n\nAccess URL: https:
 //www.aan.com/msa/Public/Events/GetEventURL/14118\n\nLearn More About Thi
 s Event: https://www.aan.com/msa/Public/Events/Details/14118
DTEND;TZID=Eastern Standard Time:20211105T123000
DTSTAMP:20260424T054219Z
DTSTART;TZID=Eastern Standard Time:20211105T113000
LOCATION:https://www.aan.com/msa/Public/Events/GetEventURL/14118
SEQUENCE:0
SUMMARY:AAN: Advanced Practice Provider Networking Session
UID:cda9a972-913c-4ba0-8b97-49cd7bd98943
END:VEVENT
END:VCALENDAR
