BEGIN:VCALENDAR
PRODID:-//github.com/rianjs/ical.net//NONSGML ical.net 4.0//EN
VERSION:2.0
BEGIN:VEVENT
DESCRIPTION:2008 Annual Meeting by the American Academy of Neurology\n\nTi
 tle: Frontiers in Clinical Neuroscience Plenary Session\n\nAccess URL: ht
 tps://www.aan.com/msa/Public/Events/GetEventURL/1412\n\nLearn More About 
 This Event: https://www.aan.com/msa/Public/Events/Details/1412
DTEND:20080417T110000
DTSTAMP:20260424T054138Z
DTSTART:20080417T090000
LOCATION:https://www.aan.com/msa/Public/Events/GetEventURL/1412
SEQUENCE:0
SUMMARY:AAN: Frontiers in Clinical Neuroscience Plenary Session
UID:da035be3-ee95-4e89-b67f-e33a07fdc847
END:VEVENT
END:VCALENDAR
