BEGIN:VCALENDAR
PRODID:-//github.com/rianjs/ical.net//NONSGML ical.net 4.0//EN
VERSION:2.0
BEGIN:VTIMEZONE
TZID:Pacific Standard Time
X-LIC-LOCATION:America/Los_Angeles
BEGIN:STANDARD
DTSTART:20241103T020000
RRULE:FREQ=YEARLY;BYDAY=1SU;BYMONTH=11
TZNAME:PST
TZOFFSETFROM:-0700
TZOFFSETTO:-0800
END:STANDARD
BEGIN:DAYLIGHT
DTSTART:20250309T020000
RRULE:FREQ=YEARLY;BYDAY=2SU;BYMONTH=3
TZNAME:PDT
TZOFFSETFROM:-0800
TZOFFSETTO:-0700
END:DAYLIGHT
END:VTIMEZONE
BEGIN:VEVENT
DESCRIPTION:2022 Annual Meeting by the American Academy of Neurology\n\nTi
 tle: Multiple Sclerosis in the Trenches\n\nAccess URL: https://www.aan.co
 m/msa/Public/Events/GetEventURL/14129\n\nLearn More About This Event: htt
 ps://www.aan.com/msa/Public/Events/Details/14129
DTEND;TZID=Pacific Standard Time:20220403T090000
DTSTAMP:20260424T054208Z
DTSTART;TZID=Pacific Standard Time:20220403T070000
LOCATION:https://www.aan.com/msa/Public/Events/GetEventURL/14129
SEQUENCE:0
SUMMARY:AAN: Multiple Sclerosis in the Trenches
UID:82715d26-0b89-456f-a9b5-14faa67648f1
END:VEVENT
END:VCALENDAR
