BEGIN:VCALENDAR
PRODID:-//github.com/rianjs/ical.net//NONSGML ical.net 4.0//EN
VERSION:2.0
BEGIN:VEVENT
DESCRIPTION:2008 Annual Meeting by the American Academy of Neurology\n\nTi
 tle: Scientific Program Highlights Plenary\n\nAccess URL: https://www.aan
 .com/msa/Public/Events/GetEventURL/1413\n\nLearn More About This Event: h
 ttps://www.aan.com/msa/Public/Events/Details/1413
DTEND:20080418T181500
DTSTAMP:20260424T054212Z
DTSTART:20080418T171500
LOCATION:https://www.aan.com/msa/Public/Events/GetEventURL/1413
SEQUENCE:0
SUMMARY:AAN: Scientific Program Highlights Plenary
UID:8ae0e003-6058-4f6c-ad75-8017a6a0467b
END:VEVENT
END:VCALENDAR
