BEGIN:VCALENDAR
PRODID:-//github.com/rianjs/ical.net//NONSGML ical.net 4.0//EN
VERSION:2.0
BEGIN:VEVENT
DESCRIPTION:2008 Annual Meeting by the American Academy of Neurology\n\nTi
 tle: Late-Breaking Science Platform Session\n\nAccess URL: https://www.aa
 n.com/msa/Public/Events/GetEventURL/1414\n\nLearn More About This Event: 
 https://www.aan.com/msa/Public/Events/Details/1414
DTEND:20080416T184500
DTSTAMP:20260424T054105Z
DTSTART:20080416T173000
LOCATION:https://www.aan.com/msa/Public/Events/GetEventURL/1414
SEQUENCE:0
SUMMARY:AAN: Late-Breaking Science Platform Session
UID:afce1fcd-6daa-4133-8012-acc459000588
END:VEVENT
END:VCALENDAR
