BEGIN:VCALENDAR
PRODID:-//github.com/rianjs/ical.net//NONSGML ical.net 4.0//EN
VERSION:2.0
BEGIN:VTIMEZONE
TZID:Pacific Standard Time
X-LIC-LOCATION:America/Los_Angeles
BEGIN:STANDARD
DTSTART:20241103T020000
RRULE:FREQ=YEARLY;BYDAY=1SU;BYMONTH=11
TZNAME:PST
TZOFFSETFROM:-0700
TZOFFSETTO:-0800
END:STANDARD
BEGIN:DAYLIGHT
DTSTART:20250309T020000
RRULE:FREQ=YEARLY;BYDAY=2SU;BYMONTH=3
TZNAME:PDT
TZOFFSETFROM:-0800
TZOFFSETTO:-0700
END:DAYLIGHT
END:VTIMEZONE
BEGIN:VEVENT
DESCRIPTION:2022 Annual Meeting by the American Academy of Neurology\n\nTi
 tle: Blockbuster or Bankrupt: A Debate on When to Use New Drugs\n\nAccess
  URL: https://www.aan.com/msa/Public/Events/GetEventURL/14141\n\nLearn Mo
 re About This Event: https://www.aan.com/msa/Public/Events/Details/14141
DTEND;TZID=Pacific Standard Time:20220403T150000
DTSTAMP:20260424T054206Z
DTSTART;TZID=Pacific Standard Time:20220403T130000
LOCATION:https://www.aan.com/msa/Public/Events/GetEventURL/14141
SEQUENCE:0
SUMMARY:AAN: Blockbuster or Bankrupt: A Debate on When to Use New Drugs
UID:90498905-762d-4219-97a5-2fedd35c67ae
END:VEVENT
END:VCALENDAR
