BEGIN:VCALENDAR
PRODID:-//github.com/rianjs/ical.net//NONSGML ical.net 4.0//EN
VERSION:2.0
BEGIN:VTIMEZONE
TZID:Pacific Standard Time
X-LIC-LOCATION:America/Los_Angeles
BEGIN:STANDARD
DTSTART:20241103T020000
RRULE:FREQ=YEARLY;BYDAY=1SU;BYMONTH=11
TZNAME:PST
TZOFFSETFROM:-0700
TZOFFSETTO:-0800
END:STANDARD
BEGIN:DAYLIGHT
DTSTART:20250309T020000
RRULE:FREQ=YEARLY;BYDAY=2SU;BYMONTH=3
TZNAME:PDT
TZOFFSETFROM:-0800
TZOFFSETTO:-0700
END:DAYLIGHT
END:VTIMEZONE
BEGIN:VEVENT
DESCRIPTION:2022 Annual Meeting by the American Academy of Neurology\n\nTi
 tle: Disparities in Care in Practice: The Current State and How to Advoca
 te\n\nAccess URL: https://www.aan.com/msa/Public/Events/GetEventURL/14148
 \n\nLearn More About This Event: https://www.aan.com/msa/Public/Events/De
 tails/14148
DTEND;TZID=Pacific Standard Time:20220403T173000
DTSTAMP:20260424T054004Z
DTSTART;TZID=Pacific Standard Time:20220403T153000
LOCATION:https://www.aan.com/msa/Public/Events/GetEventURL/14148
SEQUENCE:0
SUMMARY:AAN: Disparities in Care in Practice: The Current State and How to
  Advocate
UID:a7eaa81f-5360-4336-bf8b-0c9b5a7125db
END:VEVENT
END:VCALENDAR
