BEGIN:VCALENDAR
PRODID:-//github.com/rianjs/ical.net//NONSGML ical.net 4.0//EN
VERSION:2.0
BEGIN:VTIMEZONE
TZID:Pacific Standard Time
X-LIC-LOCATION:America/Los_Angeles
BEGIN:STANDARD
DTSTART:20241103T020000
RRULE:FREQ=YEARLY;BYDAY=1SU;BYMONTH=11
TZNAME:PST
TZOFFSETFROM:-0700
TZOFFSETTO:-0800
END:STANDARD
BEGIN:DAYLIGHT
DTSTART:20250309T020000
RRULE:FREQ=YEARLY;BYDAY=2SU;BYMONTH=3
TZNAME:PDT
TZOFFSETFROM:-0800
TZOFFSETTO:-0700
END:DAYLIGHT
END:VTIMEZONE
BEGIN:VEVENT
DESCRIPTION:2022 Annual Meeting by the American Academy of Neurology\n\nTi
 tle: Faculty Development: Enhancing Your Role in Student and Resident Tra
 ining\n\nAccess URL: https://www.aan.com/msa/Public/Events/GetEventURL/14
 155\n\nLearn More About This Event: https://www.aan.com/msa/Public/Events
 /Details/14155
DTEND;TZID=Pacific Standard Time:20220404T090000
DTSTAMP:20260424T054001Z
DTSTART;TZID=Pacific Standard Time:20220404T070000
LOCATION:https://www.aan.com/msa/Public/Events/GetEventURL/14155
SEQUENCE:0
SUMMARY:AAN: Faculty Development: Enhancing Your Role in Student and Resid
 ent Training
UID:c9c0a333-6582-4285-abbb-9c24306589c1
END:VEVENT
END:VCALENDAR
