BEGIN:VCALENDAR
PRODID:-//github.com/rianjs/ical.net//NONSGML ical.net 4.0//EN
VERSION:2.0
BEGIN:VEVENT
DESCRIPTION:2008 Annual Meeting by the American Academy of Neurology\n\nTi
 tle: Late Breaking Science Poster Session\n\nAccess URL: https://www.aan.
 com/msa/Public/Events/GetEventURL/1416\n\nLearn More About This Event: ht
 tps://www.aan.com/msa/Public/Events/Details/1416
DTEND:20080415T143000
DTSTAMP:20260424T054100Z
DTSTART:20080415T113000
LOCATION:https://www.aan.com/msa/Public/Events/GetEventURL/1416
SEQUENCE:0
SUMMARY:AAN: Late Breaking Science Poster Session
UID:50ea4b78-7e4b-41e5-86d3-42e2e27b00e7
END:VEVENT
END:VCALENDAR
