BEGIN:VCALENDAR
PRODID:-//github.com/rianjs/ical.net//NONSGML ical.net 4.0//EN
VERSION:2.0
BEGIN:VTIMEZONE
TZID:Eastern Standard Time
X-LIC-LOCATION:America/New_York
BEGIN:STANDARD
DTSTART:20241103T020000
RRULE:FREQ=YEARLY;BYDAY=1SU;BYMONTH=11
TZNAME:EST
TZOFFSETFROM:-0400
TZOFFSETTO:-0500
END:STANDARD
BEGIN:DAYLIGHT
DTSTART:20250309T020000
RRULE:FREQ=YEARLY;BYDAY=2SU;BYMONTH=3
TZNAME:EDT
TZOFFSETFROM:-0500
TZOFFSETTO:-0400
END:DAYLIGHT
END:VTIMEZONE
BEGIN:VEVENT
DESCRIPTION:2021 Fall Conference by the American Academy of Neurology\n\nT
 itle: Industry Therapeutic Update from Allergan\, an AbbVie company: Two 
 Oral CGRP Antagonists for the Treatment of Migraine: Preventive Treatment
 \n\nAccess URL: https://www.aan.com/msa/Public/Events/GetEventURL/14172\n
 \nLearn More About This Event: https://www.aan.com/msa/Public/Events/Deta
 ils/14172
DTEND;TZID=Eastern Standard Time:20211106T120000
DTSTAMP:20260424T054137Z
DTSTART;TZID=Eastern Standard Time:20211106T113000
LOCATION:https://www.aan.com/msa/Public/Events/GetEventURL/14172
SEQUENCE:0
SUMMARY:AAN: Industry Therapeutic Update from Allergan\, an AbbVie company
 : Two Oral CGRP Antagonists for the Treatment of Migraine: Preventive Tre
 atment
UID:546c9ce4-19f4-421a-898b-4fc9a6db248d
END:VEVENT
END:VCALENDAR
