BEGIN:VCALENDAR
PRODID:-//github.com/rianjs/ical.net//NONSGML ical.net 4.0//EN
VERSION:2.0
BEGIN:VTIMEZONE
TZID:Pacific Standard Time
X-LIC-LOCATION:America/Los_Angeles
BEGIN:STANDARD
DTSTART:20241103T020000
RRULE:FREQ=YEARLY;BYDAY=1SU;BYMONTH=11
TZNAME:PST
TZOFFSETFROM:-0700
TZOFFSETTO:-0800
END:STANDARD
BEGIN:DAYLIGHT
DTSTART:20250309T020000
RRULE:FREQ=YEARLY;BYDAY=2SU;BYMONTH=3
TZNAME:PDT
TZOFFSETFROM:-0800
TZOFFSETTO:-0700
END:DAYLIGHT
END:VTIMEZONE
BEGIN:VEVENT
DESCRIPTION:2022 Annual Meeting by the American Academy of Neurology\n\nTi
 tle: Multiple Sclerosis Overview\n\nAccess URL: https://www.aan.com/msa/P
 ublic/Events/GetEventURL/14174\n\nLearn More About This Event: https://ww
 w.aan.com/msa/Public/Events/Details/14174
DTEND;TZID=Pacific Standard Time:20220405T090000
DTSTAMP:20260424T082522Z
DTSTART;TZID=Pacific Standard Time:20220405T070000
LOCATION:https://www.aan.com/msa/Public/Events/GetEventURL/14174
SEQUENCE:0
SUMMARY:AAN: Multiple Sclerosis Overview
UID:a5ac807c-1354-442b-a8cc-b81c55ca426c
END:VEVENT
END:VCALENDAR
