BEGIN:VCALENDAR
PRODID:-//github.com/rianjs/ical.net//NONSGML ical.net 4.0//EN
VERSION:2.0
BEGIN:VTIMEZONE
TZID:Pacific Standard Time
X-LIC-LOCATION:America/Los_Angeles
BEGIN:STANDARD
DTSTART:20241103T020000
RRULE:FREQ=YEARLY;BYDAY=1SU;BYMONTH=11
TZNAME:PST
TZOFFSETFROM:-0700
TZOFFSETTO:-0800
END:STANDARD
BEGIN:DAYLIGHT
DTSTART:20250309T020000
RRULE:FREQ=YEARLY;BYDAY=2SU;BYMONTH=3
TZNAME:PDT
TZOFFSETFROM:-0800
TZOFFSETTO:-0700
END:DAYLIGHT
END:VTIMEZONE
BEGIN:VEVENT
DESCRIPTION:2022 Annual Meeting by the American Academy of Neurology\n\nTi
 tle: Continuum Test Your Knowledge: A Multiple-choice Question Review 2\n
 \nAccess URL: https://www.aan.com/msa/Public/Events/GetEventURL/14195\n\n
 Learn More About This Event: https://www.aan.com/msa/Public/Events/Detail
 s/14195
DTEND;TZID=Pacific Standard Time:20220405T173000
DTSTAMP:20260424T082620Z
DTSTART;TZID=Pacific Standard Time:20220405T153000
LOCATION:https://www.aan.com/msa/Public/Events/GetEventURL/14195
SEQUENCE:0
SUMMARY:AAN: Continuum Test Your Knowledge: A Multiple-choice Question Rev
 iew 2
UID:f798ee8c-fdfe-4f2d-afa3-0f66131498c0
END:VEVENT
END:VCALENDAR
