BEGIN:VCALENDAR
PRODID:-//github.com/rianjs/ical.net//NONSGML ical.net 4.0//EN
VERSION:2.0
BEGIN:VTIMEZONE
TZID:Pacific Standard Time
X-LIC-LOCATION:America/Los_Angeles
BEGIN:STANDARD
DTSTART:20241103T020000
RRULE:FREQ=YEARLY;BYDAY=1SU;BYMONTH=11
TZNAME:PST
TZOFFSETFROM:-0700
TZOFFSETTO:-0800
END:STANDARD
BEGIN:DAYLIGHT
DTSTART:20250309T020000
RRULE:FREQ=YEARLY;BYDAY=2SU;BYMONTH=3
TZNAME:PDT
TZOFFSETFROM:-0800
TZOFFSETTO:-0700
END:DAYLIGHT
END:VTIMEZONE
BEGIN:VEVENT
DESCRIPTION:2022 Annual Meeting by the American Academy of Neurology\n\nTi
 tle: How to Run a Practice: Business Strategies for Neurology Private Pra
 ctices and the Future\n\nAccess URL: https://www.aan.com/msa/Public/Event
 s/GetEventURL/14196\n\nLearn More About This Event: https://www.aan.com/m
 sa/Public/Events/Details/14196
DTEND;TZID=Pacific Standard Time:20220405T173000
DTSTAMP:20260424T054102Z
DTSTART;TZID=Pacific Standard Time:20220405T153000
LOCATION:https://www.aan.com/msa/Public/Events/GetEventURL/14196
SEQUENCE:0
SUMMARY:AAN: How to Run a Practice: Business Strategies for Neurology Priv
 ate Practices and the Future
UID:5e5a10b1-6246-42c7-86c2-63baa59e486b
END:VEVENT
END:VCALENDAR
