BEGIN:VCALENDAR
PRODID:-//github.com/rianjs/ical.net//NONSGML ical.net 4.0//EN
VERSION:2.0
BEGIN:VTIMEZONE
TZID:Pacific Standard Time
X-LIC-LOCATION:America/Los_Angeles
BEGIN:STANDARD
DTSTART:20241103T020000
RRULE:FREQ=YEARLY;BYDAY=1SU;BYMONTH=11
TZNAME:PST
TZOFFSETFROM:-0700
TZOFFSETTO:-0800
END:STANDARD
BEGIN:DAYLIGHT
DTSTART:20250309T020000
RRULE:FREQ=YEARLY;BYDAY=2SU;BYMONTH=3
TZNAME:PDT
TZOFFSETFROM:-0800
TZOFFSETTO:-0700
END:DAYLIGHT
END:VTIMEZONE
BEGIN:VEVENT
DESCRIPTION:2022 Annual Meeting by the American Academy of Neurology\n\nTi
 tle: Neuroimaging for the General Neurologist: Spine\n\nAccess URL: https
 ://www.aan.com/msa/Public/Events/GetEventURL/14204\n\nLearn More About Th
 is Event: https://www.aan.com/msa/Public/Events/Details/14204
DTEND;TZID=Pacific Standard Time:20220406T090000
DTSTAMP:20260424T054140Z
DTSTART;TZID=Pacific Standard Time:20220406T070000
LOCATION:https://www.aan.com/msa/Public/Events/GetEventURL/14204
SEQUENCE:0
SUMMARY:AAN: Neuroimaging for the General Neurologist: Spine
UID:e8d70228-50f9-4f55-9946-d002e4caff4f
END:VEVENT
END:VCALENDAR
