BEGIN:VCALENDAR
PRODID:-//github.com/rianjs/ical.net//NONSGML ical.net 4.0//EN
VERSION:2.0
BEGIN:VTIMEZONE
TZID:Pacific Standard Time
X-LIC-LOCATION:America/Los_Angeles
BEGIN:STANDARD
DTSTART:20241103T020000
RRULE:FREQ=YEARLY;BYDAY=1SU;BYMONTH=11
TZNAME:PST
TZOFFSETFROM:-0700
TZOFFSETTO:-0800
END:STANDARD
BEGIN:DAYLIGHT
DTSTART:20250309T020000
RRULE:FREQ=YEARLY;BYDAY=2SU;BYMONTH=3
TZNAME:PDT
TZOFFSETFROM:-0800
TZOFFSETTO:-0700
END:DAYLIGHT
END:VTIMEZONE
BEGIN:VEVENT
DESCRIPTION:2022 Annual Meeting by the American Academy of Neurology\n\nTi
 tle: Stroke in Pediatrics\, the Young\, and Special Populations - CANCELL
 ED\n\nAccess URL: https://www.aan.com/msa/Public/Events/GetEventURL/14207
 \n\nLearn More About This Event: https://www.aan.com/msa/Public/Events/De
 tails/14207
DTEND;TZID=Pacific Standard Time:20220406T150000
DTSTAMP:20260424T082410Z
DTSTART;TZID=Pacific Standard Time:20220406T130000
LOCATION:https://www.aan.com/msa/Public/Events/GetEventURL/14207
SEQUENCE:0
SUMMARY:AAN: Stroke in Pediatrics\, the Young\, and Special Populations - 
 CANCELLED
UID:86d06c50-333a-4201-a8de-c592c7f5dc34
END:VEVENT
END:VCALENDAR
