BEGIN:VCALENDAR
PRODID:-//github.com/rianjs/ical.net//NONSGML ical.net 4.0//EN
VERSION:2.0
BEGIN:VTIMEZONE
TZID:Pacific Standard Time
X-LIC-LOCATION:America/Los_Angeles
BEGIN:STANDARD
DTSTART:20241103T020000
RRULE:FREQ=YEARLY;BYDAY=1SU;BYMONTH=11
TZNAME:PST
TZOFFSETFROM:-0700
TZOFFSETTO:-0800
END:STANDARD
BEGIN:DAYLIGHT
DTSTART:20250309T020000
RRULE:FREQ=YEARLY;BYDAY=2SU;BYMONTH=3
TZNAME:PDT
TZOFFSETFROM:-0800
TZOFFSETTO:-0700
END:DAYLIGHT
END:VTIMEZONE
BEGIN:VEVENT
DESCRIPTION:2022 Annual Meeting by the American Academy of Neurology\n\nTi
 tle: Resident Basic Science: Neuropharmacology\n\nAccess URL: https://www
 .aan.com/msa/Public/Events/GetEventURL/14249\n\nLearn More About This Eve
 nt: https://www.aan.com/msa/Public/Events/Details/14249
DTEND;TZID=Pacific Standard Time:20220405T173000
DTSTAMP:20260424T054033Z
DTSTART;TZID=Pacific Standard Time:20220405T130000
LOCATION:https://www.aan.com/msa/Public/Events/GetEventURL/14249
SEQUENCE:0
SUMMARY:AAN: Resident Basic Science: Neuropharmacology
UID:7bbbe4ce-e125-4d0f-a5ef-ea74137c4514
END:VEVENT
END:VCALENDAR
