BEGIN:VCALENDAR
PRODID:-//github.com/rianjs/ical.net//NONSGML ical.net 4.0//EN
VERSION:2.0
BEGIN:VTIMEZONE
TZID:Pacific Standard Time
X-LIC-LOCATION:America/Los_Angeles
BEGIN:STANDARD
DTSTART:20241103T020000
RRULE:FREQ=YEARLY;BYDAY=1SU;BYMONTH=11
TZNAME:PST
TZOFFSETFROM:-0700
TZOFFSETTO:-0800
END:STANDARD
BEGIN:DAYLIGHT
DTSTART:20250309T020000
RRULE:FREQ=YEARLY;BYDAY=2SU;BYMONTH=3
TZNAME:PDT
TZOFFSETFROM:-0800
TZOFFSETTO:-0700
END:DAYLIGHT
END:VTIMEZONE
BEGIN:VEVENT
DESCRIPTION:2022 Annual Meeting by the American Academy of Neurology\n\nTi
 tle: Autoimmune Neurology 2: Clinical Trials and Treatment\n\nAccess URL:
  https://www.aan.com/msa/Public/Events/GetEventURL/14294\n\nLearn More Ab
 out This Event: https://www.aan.com/msa/Public/Events/Details/14294
DTEND;TZID=Pacific Standard Time:20220405T173000
DTSTAMP:20260424T054138Z
DTSTART;TZID=Pacific Standard Time:20220405T153000
LOCATION:https://www.aan.com/msa/Public/Events/GetEventURL/14294
SEQUENCE:0
SUMMARY:AAN: Autoimmune Neurology 2: Clinical Trials and Treatment
UID:01c2053d-e113-42b4-96bc-2b75f1112ed6
END:VEVENT
END:VCALENDAR
