BEGIN:VCALENDAR
PRODID:-//github.com/rianjs/ical.net//NONSGML ical.net 4.0//EN
VERSION:2.0
BEGIN:VTIMEZONE
TZID:Pacific Standard Time
X-LIC-LOCATION:America/Los_Angeles
BEGIN:STANDARD
DTSTART:20241103T020000
RRULE:FREQ=YEARLY;BYDAY=1SU;BYMONTH=11
TZNAME:PST
TZOFFSETFROM:-0700
TZOFFSETTO:-0800
END:STANDARD
BEGIN:DAYLIGHT
DTSTART:20250309T020000
RRULE:FREQ=YEARLY;BYDAY=2SU;BYMONTH=3
TZNAME:PDT
TZOFFSETFROM:-0800
TZOFFSETTO:-0700
END:DAYLIGHT
END:VTIMEZONE
BEGIN:VEVENT
DESCRIPTION:2022 Annual Meeting by the American Academy of Neurology\n\nTi
 tle: Cerebrovascular Disease: Basic Sciences and Cohort Studies\n\nAccess
  URL: https://www.aan.com/msa/Public/Events/GetEventURL/14302\n\nLearn Mo
 re About This Event: https://www.aan.com/msa/Public/Events/Details/14302
DTEND;TZID=Pacific Standard Time:20220406T173000
DTSTAMP:20260424T054102Z
DTSTART;TZID=Pacific Standard Time:20220406T153000
LOCATION:https://www.aan.com/msa/Public/Events/GetEventURL/14302
SEQUENCE:0
SUMMARY:AAN: Cerebrovascular Disease: Basic Sciences and Cohort Studies
UID:deebe150-e465-469e-9666-17bd04150f62
END:VEVENT
END:VCALENDAR
