BEGIN:VCALENDAR
PRODID:-//github.com/rianjs/ical.net//NONSGML ical.net 4.0//EN
VERSION:2.0
BEGIN:VTIMEZONE
TZID:Pacific Standard Time
X-LIC-LOCATION:America/Los_Angeles
BEGIN:STANDARD
DTSTART:20241103T020000
RRULE:FREQ=YEARLY;BYDAY=1SU;BYMONTH=11
TZNAME:PST
TZOFFSETFROM:-0700
TZOFFSETTO:-0800
END:STANDARD
BEGIN:DAYLIGHT
DTSTART:20250309T020000
RRULE:FREQ=YEARLY;BYDAY=2SU;BYMONTH=3
TZNAME:PDT
TZOFFSETFROM:-0800
TZOFFSETTO:-0700
END:DAYLIGHT
END:VTIMEZONE
BEGIN:VEVENT
DESCRIPTION:2022 Annual Meeting by the American Academy of Neurology\n\nTi
 tle: The Great Neuro Reunion Party\n\nDescription: Reconnect with friends
  and colleagues at the Chihuly Garden and Glass and Museum of Pop Culture
 . One complimentary ticket is included with registration. Guest tickets a
 re available for purchase for $115 each.\n\nLearn More About This Event: 
 https://www.aan.com/msa/Public/Events/Details/14320
DTEND;TZID=Pacific Standard Time:20220403T220000
DTSTAMP:20260424T053955Z
DTSTART;TZID=Pacific Standard Time:20220403T190000
LOCATION:https://www.aan.com/msa/Public/Events/GetEventURL/14320
SEQUENCE:0
SUMMARY:AAN: The Great Neuro Reunion Party
UID:e4a3d906-34f4-43b4-8181-d9e283fe5f11
END:VEVENT
END:VCALENDAR
