BEGIN:VCALENDAR
PRODID:-//github.com/rianjs/ical.net//NONSGML ical.net 4.0//EN
VERSION:2.0
BEGIN:VTIMEZONE
TZID:Pacific Standard Time
X-LIC-LOCATION:America/Los_Angeles
BEGIN:STANDARD
DTSTART:20241103T020000
RRULE:FREQ=YEARLY;BYDAY=1SU;BYMONTH=11
TZNAME:PST
TZOFFSETFROM:-0700
TZOFFSETTO:-0800
END:STANDARD
BEGIN:DAYLIGHT
DTSTART:20250309T020000
RRULE:FREQ=YEARLY;BYDAY=2SU;BYMONTH=3
TZNAME:PDT
TZOFFSETFROM:-0800
TZOFFSETTO:-0700
END:DAYLIGHT
END:VTIMEZONE
BEGIN:VEVENT
DESCRIPTION:2022 Annual Meeting by the American Academy of Neurology\n\nTi
 tle: The Power of Lifestyle Medicine: How Nutrition\, Movement\, Sleep\, 
 and Connection Can Change Your Life\n\nAccess URL: https://www.aan.com/ms
 a/Public/Events/GetEventURL/14363\n\nLearn More About This Event: https:/
 /www.aan.com/msa/Public/Events/Details/14363
DTEND;TZID=Pacific Standard Time:20220402T153000
DTSTAMP:20260424T053958Z
DTSTART;TZID=Pacific Standard Time:20220402T150000
LOCATION:https://www.aan.com/msa/Public/Events/GetEventURL/14363
SEQUENCE:0
SUMMARY:AAN: The Power of Lifestyle Medicine: How Nutrition\, Movement\, S
 leep\, and Connection Can Change Your Life
UID:271333ee-06eb-47e4-8b79-25e4a546fb52
END:VEVENT
END:VCALENDAR
