BEGIN:VCALENDAR
PRODID:-//github.com/rianjs/ical.net//NONSGML ical.net 4.0//EN
VERSION:2.0
BEGIN:VTIMEZONE
TZID:Pacific Standard Time
X-LIC-LOCATION:America/Los_Angeles
BEGIN:STANDARD
DTSTART:20241103T020000
RRULE:FREQ=YEARLY;BYDAY=1SU;BYMONTH=11
TZNAME:PST
TZOFFSETFROM:-0700
TZOFFSETTO:-0800
END:STANDARD
BEGIN:DAYLIGHT
DTSTART:20250309T020000
RRULE:FREQ=YEARLY;BYDAY=2SU;BYMONTH=3
TZNAME:PDT
TZOFFSETFROM:-0800
TZOFFSETTO:-0700
END:DAYLIGHT
END:VTIMEZONE
BEGIN:VEVENT
DESCRIPTION:2022 Annual Meeting by the American Academy of Neurology\n\nTi
 tle: Create Your Own Byte of Neurology\n\nAccess URL: https://www.aan.com
 /msa/Public/Events/GetEventURL/14376\n\nLearn More About This Event: http
 s://www.aan.com/msa/Public/Events/Details/14376
DTEND;TZID=Pacific Standard Time:20220404T090000
DTSTAMP:20260424T082513Z
DTSTART;TZID=Pacific Standard Time:20220404T070000
LOCATION:https://www.aan.com/msa/Public/Events/GetEventURL/14376
SEQUENCE:0
SUMMARY:AAN: Create Your Own Byte of Neurology
UID:d8e60db4-6ef2-42f0-a706-ae884c208009
END:VEVENT
END:VCALENDAR
