BEGIN:VCALENDAR
PRODID:-//github.com/rianjs/ical.net//NONSGML ical.net 4.0//EN
VERSION:2.0
BEGIN:VTIMEZONE
TZID:Pacific Standard Time
X-LIC-LOCATION:America/Los_Angeles
BEGIN:STANDARD
DTSTART:20241103T020000
RRULE:FREQ=YEARLY;BYDAY=1SU;BYMONTH=11
TZNAME:PST
TZOFFSETFROM:-0700
TZOFFSETTO:-0800
END:STANDARD
BEGIN:DAYLIGHT
DTSTART:20250309T020000
RRULE:FREQ=YEARLY;BYDAY=2SU;BYMONTH=3
TZNAME:PDT
TZOFFSETFROM:-0800
TZOFFSETTO:-0700
END:DAYLIGHT
END:VTIMEZONE
BEGIN:VEVENT
DESCRIPTION:2022 Annual Meeting by the American Academy of Neurology\n\nTi
 tle: Commitment to Cures Gala \n\nDescription: American Brain Foundation'
 s Annual Gala\, which celebrates research breakthroughs and raises funds 
 to continue this critical work towards the cures of tomorrow. Guests will
  enjoy a seated dinner\, award celebrations\, entertainment\, and appeara
 nces from special guests\, including actor and comedian\, Seth Rogen. The
  American Brain Foundation is the AAN's non-profit partner. Funds raised 
 will support the AAN's world-renowned research program. \n\nLearn More Ab
 out This Event: https://www.aan.com/msa/Public/Events/Details/14383
DTEND;TZID=Pacific Standard Time:20220406T220000
DTSTAMP:20260424T054139Z
DTSTART;TZID=Pacific Standard Time:20220406T180000
LOCATION:https://www.aan.com/msa/Public/Events/GetEventURL/14383
SEQUENCE:0
SUMMARY:AAN: Commitment to Cures Gala
UID:2c637832-b105-4bde-abab-b9fdf8216f91
END:VEVENT
END:VCALENDAR
