BEGIN:VCALENDAR
PRODID:-//github.com/rianjs/ical.net//NONSGML ical.net 4.0//EN
VERSION:2.0
BEGIN:VTIMEZONE
TZID:Pacific Standard Time
X-LIC-LOCATION:America/Los_Angeles
BEGIN:STANDARD
DTSTART:20241103T020000
RRULE:FREQ=YEARLY;BYDAY=1SU;BYMONTH=11
TZNAME:PST
TZOFFSETFROM:-0700
TZOFFSETTO:-0800
END:STANDARD
BEGIN:DAYLIGHT
DTSTART:20250309T020000
RRULE:FREQ=YEARLY;BYDAY=2SU;BYMONTH=3
TZNAME:PDT
TZOFFSETFROM:-0800
TZOFFSETTO:-0700
END:DAYLIGHT
END:VTIMEZONE
BEGIN:VEVENT
DESCRIPTION:2022 Annual Meeting by the American Academy of Neurology\n\nTi
 tle: Implementation Science: How to Translate Policy into Real-world Chan
 ge\n\nAccess URL: https://www.aan.com/msa/Public/Events/GetEventURL/14390
 \n\nLearn More About This Event: https://www.aan.com/msa/Public/Events/De
 tails/14390
DTEND;TZID=Pacific Standard Time:20220403T163000
DTSTAMP:20260424T054220Z
DTSTART;TZID=Pacific Standard Time:20220403T133000
LOCATION:https://www.aan.com/msa/Public/Events/GetEventURL/14390
SEQUENCE:0
SUMMARY:AAN: Implementation Science: How to Translate Policy into Real-wor
 ld Change
UID:a5f4c989-e73c-4074-810a-3871e8d6ce94
END:VEVENT
END:VCALENDAR
