BEGIN:VCALENDAR
PRODID:-//github.com/rianjs/ical.net//NONSGML ical.net 4.0//EN
VERSION:2.0
BEGIN:VTIMEZONE
TZID:Pacific Standard Time
X-LIC-LOCATION:America/Los_Angeles
BEGIN:STANDARD
DTSTART:20241103T020000
RRULE:FREQ=YEARLY;BYDAY=1SU;BYMONTH=11
TZNAME:PST
TZOFFSETFROM:-0700
TZOFFSETTO:-0800
END:STANDARD
BEGIN:DAYLIGHT
DTSTART:20250309T020000
RRULE:FREQ=YEARLY;BYDAY=2SU;BYMONTH=3
TZNAME:PDT
TZOFFSETFROM:-0800
TZOFFSETTO:-0700
END:DAYLIGHT
END:VTIMEZONE
BEGIN:VEVENT
DESCRIPTION:2022 Annual Meeting by the American Academy of Neurology\n\nTi
 tle: Neuro Exam Tricks and Tips\n\nAccess URL: https://www.aan.com/msa/Pu
 blic/Events/GetEventURL/14401\n\nLearn More About This Event: https://www
 .aan.com/msa/Public/Events/Details/14401
DTEND;TZID=Pacific Standard Time:20220404T144500
DTSTAMP:20260424T054138Z
DTSTART;TZID=Pacific Standard Time:20220404T140000
LOCATION:https://www.aan.com/msa/Public/Events/GetEventURL/14401
SEQUENCE:0
SUMMARY:AAN: Neuro Exam Tricks and Tips
UID:5c2e8574-acaa-47b6-850e-b43c72ab1a21
END:VEVENT
END:VCALENDAR
