BEGIN:VCALENDAR
PRODID:-//github.com/rianjs/ical.net//NONSGML ical.net 4.0//EN
VERSION:2.0
BEGIN:VTIMEZONE
TZID:Pacific Standard Time
X-LIC-LOCATION:America/Los_Angeles
BEGIN:STANDARD
DTSTART:20241103T020000
RRULE:FREQ=YEARLY;BYDAY=1SU;BYMONTH=11
TZNAME:PST
TZOFFSETFROM:-0700
TZOFFSETTO:-0800
END:STANDARD
BEGIN:DAYLIGHT
DTSTART:20250309T020000
RRULE:FREQ=YEARLY;BYDAY=2SU;BYMONTH=3
TZNAME:PDT
TZOFFSETFROM:-0800
TZOFFSETTO:-0700
END:DAYLIGHT
END:VTIMEZONE
BEGIN:VEVENT
DESCRIPTION:2022 Annual Meeting by the American Academy of Neurology\n\nTi
 tle: Aducanumab: A Conversation with David Knopman About the Approval Pro
 cess and the Future of Dementia Care\n\nAccess URL: https://www.aan.com/m
 sa/Public/Events/GetEventURL/14419\n\nLearn More About This Event: https:
 //www.aan.com/msa/Public/Events/Details/14419
DTEND;TZID=Pacific Standard Time:20220405T164500
DTSTAMP:20260424T082552Z
DTSTART;TZID=Pacific Standard Time:20220405T160000
LOCATION:https://www.aan.com/msa/Public/Events/GetEventURL/14419
SEQUENCE:0
SUMMARY:AAN: Aducanumab: A Conversation with David Knopman About the Appro
 val Process and the Future of Dementia Care
UID:b98426a1-97e6-44d6-83b7-462c6e197ae7
END:VEVENT
END:VCALENDAR
