BEGIN:VCALENDAR
PRODID:-//github.com/rianjs/ical.net//NONSGML ical.net 4.0//EN
VERSION:2.0
BEGIN:VTIMEZONE
TZID:Pacific Standard Time
X-LIC-LOCATION:America/Los_Angeles
BEGIN:STANDARD
DTSTART:20241103T020000
RRULE:FREQ=YEARLY;BYDAY=1SU;BYMONTH=11
TZNAME:PST
TZOFFSETFROM:-0700
TZOFFSETTO:-0800
END:STANDARD
BEGIN:DAYLIGHT
DTSTART:20250309T020000
RRULE:FREQ=YEARLY;BYDAY=2SU;BYMONTH=3
TZNAME:PDT
TZOFFSETFROM:-0800
TZOFFSETTO:-0700
END:DAYLIGHT
END:VTIMEZONE
BEGIN:VEVENT
DESCRIPTION:2022 Annual Meeting by the American Academy of Neurology\n\nTi
 tle: CANCELLED: The Effects of Loneliness: Connectivity Matters\n\nAccess
  URL: https://www.aan.com/msa/Public/Events/GetEventURL/14423\n\nLearn Mo
 re About This Event: https://www.aan.com/msa/Public/Events/Details/14423
DTEND;TZID=Pacific Standard Time:20220406T144500
DTSTAMP:20260424T054208Z
DTSTART;TZID=Pacific Standard Time:20220406T140000
LOCATION:https://www.aan.com/msa/Public/Events/GetEventURL/14423
SEQUENCE:0
SUMMARY:AAN: CANCELLED: The Effects of Loneliness: Connectivity Matters
UID:bd8b9e31-a81d-4003-b9a1-a95ceecef117
END:VEVENT
END:VCALENDAR
