BEGIN:VCALENDAR
PRODID:-//github.com/rianjs/ical.net//NONSGML ical.net 4.0//EN
VERSION:2.0
BEGIN:VTIMEZONE
TZID:Pacific Standard Time
X-LIC-LOCATION:America/Los_Angeles
BEGIN:STANDARD
DTSTART:20241103T020000
RRULE:FREQ=YEARLY;BYDAY=1SU;BYMONTH=11
TZNAME:PST
TZOFFSETFROM:-0700
TZOFFSETTO:-0800
END:STANDARD
BEGIN:DAYLIGHT
DTSTART:20250309T020000
RRULE:FREQ=YEARLY;BYDAY=2SU;BYMONTH=3
TZNAME:PDT
TZOFFSETFROM:-0800
TZOFFSETTO:-0700
END:DAYLIGHT
END:VTIMEZONE
BEGIN:VEVENT
DESCRIPTION:2022 Annual Meeting by the American Academy of Neurology\n\nTi
 tle: Stanford Neurology Annual Alumni Reunion\n\nDescription: Stanford Ne
 urology holds its annual alumni reunion at the AAN conference since so ma
 ny of their alumni and current faculty\, residents\, and fellows attend t
 he AAN conference.  This is the best opportunity for Stanford Neurology t
 o hold this reunion and get the largest head count given the conference a
 ttraction for all alumni and current faculty..\n\nLearn More About This E
 vent: https://www.aan.com/msa/Public/Events/Details/14429
DTEND;TZID=Pacific Standard Time:20220405T213000
DTSTAMP:20260424T054208Z
DTSTART;TZID=Pacific Standard Time:20220405T173000
LOCATION:https://www.aan.com/msa/Public/Events/GetEventURL/14429
SEQUENCE:0
SUMMARY:AAN: Stanford Neurology Annual Alumni Reunion
UID:bf372986-0b8f-4f83-be04-3c24ec5bc425
END:VEVENT
END:VCALENDAR
