BEGIN:VCALENDAR
PRODID:-//github.com/rianjs/ical.net//NONSGML ical.net 4.0//EN
VERSION:2.0
BEGIN:VTIMEZONE
TZID:Pacific Standard Time
X-LIC-LOCATION:America/Los_Angeles
BEGIN:STANDARD
DTSTART:20241103T020000
RRULE:FREQ=YEARLY;BYDAY=1SU;BYMONTH=11
TZNAME:PST
TZOFFSETFROM:-0700
TZOFFSETTO:-0800
END:STANDARD
BEGIN:DAYLIGHT
DTSTART:20250309T020000
RRULE:FREQ=YEARLY;BYDAY=2SU;BYMONTH=3
TZNAME:PDT
TZOFFSETFROM:-0800
TZOFFSETTO:-0700
END:DAYLIGHT
END:VTIMEZONE
BEGIN:VEVENT
DESCRIPTION:2022 Annual Meeting by the American Academy of Neurology\n\nTi
 tle: University of Rochester - Neurology Alumni Reunion\n\nDescription: T
 he reunion is a great venue for alumni who trained at the University of R
 ochester to reunite with current and past residents\, fellows and faculty
 .  Each year at the reunion\, we present a resident alumnus award to reco
 gnize an outstanding Neurology alumnus who has made outstanding contribut
 ions to the field of neurology.  Additionally\, we provide the alumni an 
 update on new developments in research and education taking place in Neur
 ology at the University of Rochester.\n\nLearn More About This Event: htt
 ps://www.aan.com/msa/Public/Events/Details/14433
DTEND;TZID=Pacific Standard Time:20220405T200000
DTSTAMP:20260424T054140Z
DTSTART;TZID=Pacific Standard Time:20220405T180000
LOCATION:https://www.aan.com/msa/Public/Events/GetEventURL/14433
SEQUENCE:0
SUMMARY:AAN: University of Rochester - Neurology Alumni Reunion
UID:6c751fcb-beb8-4d73-9e67-551e40c50a3b
END:VEVENT
END:VCALENDAR
