BEGIN:VCALENDAR
PRODID:-//github.com/rianjs/ical.net//NONSGML ical.net 4.0//EN
VERSION:2.0
BEGIN:VTIMEZONE
TZID:Pacific Standard Time
X-LIC-LOCATION:America/Los_Angeles
BEGIN:STANDARD
DTSTART:20241103T020000
RRULE:FREQ=YEARLY;BYDAY=1SU;BYMONTH=11
TZNAME:PST
TZOFFSETFROM:-0700
TZOFFSETTO:-0800
END:STANDARD
BEGIN:DAYLIGHT
DTSTART:20250309T020000
RRULE:FREQ=YEARLY;BYDAY=2SU;BYMONTH=3
TZNAME:PDT
TZOFFSETFROM:-0800
TZOFFSETTO:-0700
END:DAYLIGHT
END:VTIMEZONE
BEGIN:VEVENT
DESCRIPTION:2022 Annual Meeting by the American Academy of Neurology\n\nTi
 tle: The Best Things Happen While You’re Dancing: A Look at the Neurother
 apeutic Power of Dance in Parkinson’s Disease\n\nAccess URL: https://www.
 aan.com/msa/Public/Events/GetEventURL/14437\n\nLearn More About This Even
 t: https://www.aan.com/msa/Public/Events/Details/14437
DTEND;TZID=Pacific Standard Time:20220403T134500
DTSTAMP:20260424T054207Z
DTSTART;TZID=Pacific Standard Time:20220403T130000
LOCATION:https://www.aan.com/msa/Public/Events/GetEventURL/14437
SEQUENCE:0
SUMMARY:AAN: The Best Things Happen While You’re Dancing: A Look at the Ne
 urotherapeutic Power of Dance in Parkinson’s Disease
UID:04a8fad4-a550-4fae-a22a-08d081f9759f
END:VEVENT
END:VCALENDAR
