BEGIN:VCALENDAR
PRODID:-//github.com/rianjs/ical.net//NONSGML ical.net 4.0//EN
VERSION:2.0
BEGIN:VTIMEZONE
TZID:Pacific Standard Time
X-LIC-LOCATION:America/Los_Angeles
BEGIN:STANDARD
DTSTART:20241103T020000
RRULE:FREQ=YEARLY;BYDAY=1SU;BYMONTH=11
TZNAME:PST
TZOFFSETFROM:-0700
TZOFFSETTO:-0800
END:STANDARD
BEGIN:DAYLIGHT
DTSTART:20250309T020000
RRULE:FREQ=YEARLY;BYDAY=2SU;BYMONTH=3
TZNAME:PDT
TZOFFSETFROM:-0800
TZOFFSETTO:-0700
END:DAYLIGHT
END:VTIMEZONE
BEGIN:VEVENT
DESCRIPTION:2022 Annual Meeting by the American Academy of Neurology\n\nTi
 tle: Live Well ELA Social Event\n\nDescription: This event will bring tog
 ether attendees interested in promoting wellness within the neurology com
 munity. It will be located at the Live Well ELA stage. \n\nLearn More Abo
 ut This Event: https://www.aan.com/msa/Public/Events/Details/14439
DTEND;TZID=Pacific Standard Time:20220404T170000
DTSTAMP:20260424T054207Z
DTSTART;TZID=Pacific Standard Time:20220404T153000
LOCATION:https://www.aan.com/msa/Public/Events/GetEventURL/14439
SEQUENCE:0
SUMMARY:AAN: Live Well ELA Social Event
UID:73740f87-d02c-4894-9431-7a4d755bc5cd
END:VEVENT
END:VCALENDAR
