BEGIN:VCALENDAR
PRODID:-//github.com/rianjs/ical.net//NONSGML ical.net 4.0//EN
VERSION:2.0
BEGIN:VTIMEZONE
TZID:Pacific Standard Time
X-LIC-LOCATION:America/Los_Angeles
BEGIN:STANDARD
DTSTART:20241103T020000
RRULE:FREQ=YEARLY;BYDAY=1SU;BYMONTH=11
TZNAME:PST
TZOFFSETFROM:-0700
TZOFFSETTO:-0800
END:STANDARD
BEGIN:DAYLIGHT
DTSTART:20250309T020000
RRULE:FREQ=YEARLY;BYDAY=2SU;BYMONTH=3
TZNAME:PDT
TZOFFSETFROM:-0800
TZOFFSETTO:-0700
END:DAYLIGHT
END:VTIMEZONE
BEGIN:VEVENT
DESCRIPTION:2022 Annual Meeting by the American Academy of Neurology\n\nTi
 tle: Penn State Neurology Alumni\, Faculty\, and Friends Reunion\n\nDescr
 iption: The Penn State Neurology Department is excited to host an evening
  with faculty\, residents/fellows/students\, alumni\, and friends during 
 the AAN meeting. Come and meet new faces or catch up with your peers.\n\n
 Learn More About This Event: https://www.aan.com/msa/Public/Events/Detail
 s/14483
DTEND;TZID=Pacific Standard Time:20220404T200000
DTSTAMP:20260424T054210Z
DTSTART;TZID=Pacific Standard Time:20220404T180000
LOCATION:https://www.aan.com/msa/Public/Events/GetEventURL/14483
SEQUENCE:0
SUMMARY:AAN: Penn State Neurology Alumni\, Faculty\, and Friends Reunion
UID:74b5b2ec-8ffb-4c1f-a184-f8171436b48b
END:VEVENT
END:VCALENDAR
