BEGIN:VCALENDAR
PRODID:-//github.com/rianjs/ical.net//NONSGML ical.net 4.0//EN
VERSION:2.0
BEGIN:VTIMEZONE
TZID:Pacific Standard Time
X-LIC-LOCATION:America/Los_Angeles
BEGIN:STANDARD
DTSTART:20241103T020000
RRULE:FREQ=YEARLY;BYDAY=1SU;BYMONTH=11
TZNAME:PST
TZOFFSETFROM:-0700
TZOFFSETTO:-0800
END:STANDARD
BEGIN:DAYLIGHT
DTSTART:20250309T020000
RRULE:FREQ=YEARLY;BYDAY=2SU;BYMONTH=3
TZNAME:PDT
TZOFFSETFROM:-0800
TZOFFSETTO:-0700
END:DAYLIGHT
END:VTIMEZONE
BEGIN:VEVENT
DESCRIPTION:2022 Annual Meeting by the American Academy of Neurology\n\nTi
 tle: Actualización en Enfermedades Neuromusculares (Neuromuscular)\n\nAcc
 ess URL: https://www.aan.com/msa/Public/Events/GetEventURL/14486\n\nLearn
  More About This Event: https://www.aan.com/msa/Public/Events/Details/144
 86
DTEND;TZID=Pacific Standard Time:20220404T090000
DTSTAMP:20260424T054032Z
DTSTART;TZID=Pacific Standard Time:20220404T070000
LOCATION:https://www.aan.com/msa/Public/Events/GetEventURL/14486
SEQUENCE:0
SUMMARY:AAN: Actualización en Enfermedades Neuromusculares (Neuromuscular)
UID:050c350a-486c-40f0-94de-e39ef9530fb8
END:VEVENT
END:VCALENDAR
