BEGIN:VCALENDAR
PRODID:-//github.com/rianjs/ical.net//NONSGML ical.net 4.0//EN
VERSION:2.0
BEGIN:VTIMEZONE
TZID:Pacific Standard Time
X-LIC-LOCATION:America/Los_Angeles
BEGIN:STANDARD
DTSTART:20241103T020000
RRULE:FREQ=YEARLY;BYDAY=1SU;BYMONTH=11
TZNAME:PST
TZOFFSETFROM:-0700
TZOFFSETTO:-0800
END:STANDARD
BEGIN:DAYLIGHT
DTSTART:20250309T020000
RRULE:FREQ=YEARLY;BYDAY=2SU;BYMONTH=3
TZNAME:PDT
TZOFFSETFROM:-0800
TZOFFSETTO:-0700
END:DAYLIGHT
END:VTIMEZONE
BEGIN:VEVENT
DESCRIPTION:2022 Annual Meeting by the American Academy of Neurology\n\nTi
 tle: Cefalea: viejos y nuevos conceptos y estrategias (Headache)\n\nAcces
 s URL: https://www.aan.com/msa/Public/Events/GetEventURL/14488\n\nLearn M
 ore About This Event: https://www.aan.com/msa/Public/Events/Details/14488
DTEND;TZID=Pacific Standard Time:20220406T090000
DTSTAMP:20260424T054136Z
DTSTART;TZID=Pacific Standard Time:20220406T070000
LOCATION:https://www.aan.com/msa/Public/Events/GetEventURL/14488
SEQUENCE:0
SUMMARY:AAN: Cefalea: viejos y nuevos conceptos y estrategias (Headache)
UID:ab0edd99-050f-4c3b-8cbb-0c1b38fd523d
END:VEVENT
END:VCALENDAR
