BEGIN:VCALENDAR
PRODID:-//github.com/rianjs/ical.net//NONSGML ical.net 4.0//EN
VERSION:2.0
BEGIN:VTIMEZONE
TZID:Pacific Standard Time
X-LIC-LOCATION:America/Los_Angeles
BEGIN:STANDARD
DTSTART:20241103T020000
RRULE:FREQ=YEARLY;BYDAY=1SU;BYMONTH=11
TZNAME:PST
TZOFFSETFROM:-0700
TZOFFSETTO:-0800
END:STANDARD
BEGIN:DAYLIGHT
DTSTART:20250309T020000
RRULE:FREQ=YEARLY;BYDAY=2SU;BYMONTH=3
TZNAME:PDT
TZOFFSETFROM:-0800
TZOFFSETTO:-0700
END:DAYLIGHT
END:VTIMEZONE
BEGIN:VEVENT
DESCRIPTION:2022 Annual Meeting by the American Academy of Neurology\n\nTi
 tle: Trombectomía Mecánica: Consejos Prácticos para el Tratamiento de Pac
 ientes con Oclusión de Grandes Vasos (Neuroendovascular)\n\nAccess URL: h
 ttps://www.aan.com/msa/Public/Events/GetEventURL/14489\n\nLearn More Abou
 t This Event: https://www.aan.com/msa/Public/Events/Details/14489
DTEND;TZID=Pacific Standard Time:20220407T173000
DTSTAMP:20260424T054209Z
DTSTART;TZID=Pacific Standard Time:20220407T153000
LOCATION:https://www.aan.com/msa/Public/Events/GetEventURL/14489
SEQUENCE:0
SUMMARY:AAN: Trombectomía Mecánica: Consejos Prácticos para el Tratamiento
  de Pacientes con Oclusión de Grandes Vasos (Neuroendovascular)
UID:d4464709-2d87-4a4c-8b6a-5818922e22ce
END:VEVENT
END:VCALENDAR
