BEGIN:VCALENDAR
PRODID:-//github.com/rianjs/ical.net//NONSGML ical.net 4.0//EN
VERSION:2.0
BEGIN:VTIMEZONE
TZID:Pacific Standard Time
X-LIC-LOCATION:America/Los_Angeles
BEGIN:STANDARD
DTSTART:20241103T020000
RRULE:FREQ=YEARLY;BYDAY=1SU;BYMONTH=11
TZNAME:PST
TZOFFSETFROM:-0700
TZOFFSETTO:-0800
END:STANDARD
BEGIN:DAYLIGHT
DTSTART:20250309T020000
RRULE:FREQ=YEARLY;BYDAY=2SU;BYMONTH=3
TZNAME:PDT
TZOFFSETFROM:-0800
TZOFFSETTO:-0700
END:DAYLIGHT
END:VTIMEZONE
BEGIN:VEVENT
DESCRIPTION:2022 Annual Meeting by the American Academy of Neurology\n\nTi
 tle: TRANSCENDS (Training in Research for Academic Neurologists to Sustai
 n Careers and Enhance the Numbers of Diverse Scholars) Program Overview \
 n\nAccess URL: https://www.aan.com/msa/Public/Events/GetEventURL/14544\n\
 nLearn More About This Event: https://www.aan.com/msa/Public/Events/Detai
 ls/14544
DTEND;TZID=Pacific Standard Time:20220404T163000
DTSTAMP:20260424T082645Z
DTSTART;TZID=Pacific Standard Time:20220404T160000
LOCATION:https://www.aan.com/msa/Public/Events/GetEventURL/14544
SEQUENCE:0
SUMMARY:AAN: TRANSCENDS (Training in Research for Academic Neurologists to
  Sustain Careers and Enhance the Numbers of Diverse Scholars) Program Ove
 rview
UID:25b5b3b6-1776-4026-92a7-61129f8ad4b9
END:VEVENT
END:VCALENDAR
