BEGIN:VCALENDAR
PRODID:-//github.com/rianjs/ical.net//NONSGML ical.net 4.0//EN
VERSION:2.0
BEGIN:VTIMEZONE
TZID:Pacific Standard Time
X-LIC-LOCATION:America/Los_Angeles
BEGIN:STANDARD
DTSTART:20241103T020000
RRULE:FREQ=YEARLY;BYDAY=1SU;BYMONTH=11
TZNAME:PST
TZOFFSETFROM:-0700
TZOFFSETTO:-0800
END:STANDARD
BEGIN:DAYLIGHT
DTSTART:20250309T020000
RRULE:FREQ=YEARLY;BYDAY=2SU;BYMONTH=3
TZNAME:PDT
TZOFFSETFROM:-0800
TZOFFSETTO:-0700
END:DAYLIGHT
END:VTIMEZONE
BEGIN:VEVENT
DESCRIPTION:2022 Annual Meeting by the American Academy of Neurology\n\nTi
 tle: VCU School of Medicine and VCU Health Reception\n\nDescription: A VC
 U School of Medicine and VCU Health reception. The event provides an oppo
 rtunity for VCU School of Medicine alumni and former housestaff\, as well
  as faculty and friends of the VCU Health Department of Neurology to netw
 ork and socialize. Heavy hors d’oeuvres and drinks will be served. \n\nLe
 arn More About This Event: https://www.aan.com/msa/Public/Events/Details/
 14586
DTEND;TZID=Pacific Standard Time:20220405T200000
DTSTAMP:20260424T054206Z
DTSTART;TZID=Pacific Standard Time:20220405T180000
LOCATION:https://www.aan.com/msa/Public/Events/GetEventURL/14586
SEQUENCE:0
SUMMARY:AAN: VCU School of Medicine and VCU Health Reception
UID:fff88b72-9a30-4534-9f00-840b9e96fc63
END:VEVENT
END:VCALENDAR
