BEGIN:VCALENDAR
PRODID:-//github.com/rianjs/ical.net//NONSGML ical.net 4.0//EN
VERSION:2.0
BEGIN:VTIMEZONE
TZID:Pacific Standard Time
X-LIC-LOCATION:America/Los_Angeles
BEGIN:STANDARD
DTSTART:20241103T020000
RRULE:FREQ=YEARLY;BYDAY=1SU;BYMONTH=11
TZNAME:PST
TZOFFSETFROM:-0700
TZOFFSETTO:-0800
END:STANDARD
BEGIN:DAYLIGHT
DTSTART:20250309T020000
RRULE:FREQ=YEARLY;BYDAY=2SU;BYMONTH=3
TZNAME:PDT
TZOFFSETFROM:-0800
TZOFFSETTO:-0700
END:DAYLIGHT
END:VTIMEZONE
BEGIN:VEVENT
DESCRIPTION:2022 Annual Meeting by the American Academy of Neurology\n\nTi
 tle: Team Building in Medicine: How to Incorporate Your Strengths in Medi
 cal Teams\n\nAccess URL: https://www.aan.com/msa/Public/Events/GetEventUR
 L/14597\n\nLearn More About This Event: https://www.aan.com/msa/Public/Ev
 ents/Details/14597
DTEND;TZID=Pacific Standard Time:20220403T133000
DTSTAMP:20260424T054220Z
DTSTART;TZID=Pacific Standard Time:20220403T130000
LOCATION:https://www.aan.com/msa/Public/Events/GetEventURL/14597
SEQUENCE:0
SUMMARY:AAN: Team Building in Medicine: How to Incorporate Your Strengths 
 in Medical Teams
UID:ba571b15-307b-433e-88bb-cbd1ad7fc914
END:VEVENT
END:VCALENDAR
