BEGIN:VCALENDAR
PRODID:-//github.com/rianjs/ical.net//NONSGML ical.net 4.0//EN
VERSION:2.0
BEGIN:VTIMEZONE
TZID:Pacific Standard Time
X-LIC-LOCATION:America/Los_Angeles
BEGIN:STANDARD
DTSTART:20241103T020000
RRULE:FREQ=YEARLY;BYDAY=1SU;BYMONTH=11
TZNAME:PST
TZOFFSETFROM:-0700
TZOFFSETTO:-0800
END:STANDARD
BEGIN:DAYLIGHT
DTSTART:20250309T020000
RRULE:FREQ=YEARLY;BYDAY=2SU;BYMONTH=3
TZNAME:PDT
TZOFFSETFROM:-0800
TZOFFSETTO:-0700
END:DAYLIGHT
END:VTIMEZONE
BEGIN:VEVENT
DESCRIPTION:2022 Annual Meeting by the American Academy of Neurology\n\nTi
 tle: Clinical Trials Methodology  Course: What Is It? Who Is It for? \n\n
 Access URL: https://www.aan.com/msa/Public/Events/GetEventURL/14668\n\nLe
 arn More About This Event: https://www.aan.com/msa/Public/Events/Details/
 14668
DTEND;TZID=Pacific Standard Time:20220404T160000
DTSTAMP:20260424T082552Z
DTSTART;TZID=Pacific Standard Time:20220404T150000
LOCATION:https://www.aan.com/msa/Public/Events/GetEventURL/14668
SEQUENCE:0
SUMMARY:AAN: Clinical Trials Methodology  Course: What Is It? Who Is It fo
 r?
UID:d9ec5619-114e-4da6-8962-421eb1f0a654
END:VEVENT
END:VCALENDAR
