BEGIN:VCALENDAR
PRODID:-//github.com/rianjs/ical.net//NONSGML ical.net 4.0//EN
VERSION:2.0
BEGIN:VTIMEZONE
TZID:Pacific Standard Time
X-LIC-LOCATION:America/Los_Angeles
BEGIN:STANDARD
DTSTART:20241103T020000
RRULE:FREQ=YEARLY;BYDAY=1SU;BYMONTH=11
TZNAME:PST
TZOFFSETFROM:-0700
TZOFFSETTO:-0800
END:STANDARD
BEGIN:DAYLIGHT
DTSTART:20250309T020000
RRULE:FREQ=YEARLY;BYDAY=2SU;BYMONTH=3
TZNAME:PDT
TZOFFSETFROM:-0800
TZOFFSETTO:-0700
END:DAYLIGHT
END:VTIMEZONE
BEGIN:VEVENT
DESCRIPTION:2022 Annual Meeting by the American Academy of Neurology\n\nTi
 tle: Graceful Self-promotion: Empower Yourself as a Leader in Neurology (
 and Kick the Imposter Syndrome)\n\nAccess URL: https://www.aan.com/msa/Pu
 blic/Events/GetEventURL/14679\n\nLearn More About This Event: https://www
 .aan.com/msa/Public/Events/Details/14679
DTEND;TZID=Pacific Standard Time:20220406T133000
DTSTAMP:20260424T054141Z
DTSTART;TZID=Pacific Standard Time:20220406T120000
LOCATION:https://www.aan.com/msa/Public/Events/GetEventURL/14679
SEQUENCE:0
SUMMARY:AAN: Graceful Self-promotion: Empower Yourself as a Leader in Neur
 ology (and Kick the Imposter Syndrome)
UID:59e74efe-fd01-4e05-ac41-1f9f635ff752
END:VEVENT
END:VCALENDAR
