BEGIN:VCALENDAR
PRODID:-//github.com/rianjs/ical.net//NONSGML ical.net 4.0//EN
VERSION:2.0
BEGIN:VTIMEZONE
TZID:Pacific Standard Time
X-LIC-LOCATION:America/Los_Angeles
BEGIN:STANDARD
DTSTART:20241103T020000
RRULE:FREQ=YEARLY;BYDAY=1SU;BYMONTH=11
TZNAME:PST
TZOFFSETFROM:-0700
TZOFFSETTO:-0800
END:STANDARD
BEGIN:DAYLIGHT
DTSTART:20250309T020000
RRULE:FREQ=YEARLY;BYDAY=2SU;BYMONTH=3
TZNAME:PDT
TZOFFSETFROM:-0800
TZOFFSETTO:-0700
END:DAYLIGHT
END:VTIMEZONE
BEGIN:VEVENT
DESCRIPTION:2022 Annual Meeting by the American Academy of Neurology\n\nTi
 tle: Poster Session 2\n\nAccess URL: https://www.aan.com/msa/Public/Event
 s/GetEventURL/14690\n\nLearn More About This Event: https://www.aan.com/m
 sa/Public/Events/Details/14690
DTEND;TZID=Pacific Standard Time:20220402T124500
DTSTAMP:20260424T054208Z
DTSTART;TZID=Pacific Standard Time:20220402T114500
LOCATION:https://www.aan.com/msa/Public/Events/GetEventURL/14690
SEQUENCE:0
SUMMARY:AAN: Poster Session 2
UID:e72b8fa9-b2b0-4484-a4ac-123a5fe7423b
END:VEVENT
END:VCALENDAR
