BEGIN:VCALENDAR
PRODID:-//github.com/rianjs/ical.net//NONSGML ical.net 4.0//EN
VERSION:2.0
BEGIN:VTIMEZONE
TZID:Pacific Standard Time
X-LIC-LOCATION:America/Los_Angeles
BEGIN:STANDARD
DTSTART:20241103T020000
RRULE:FREQ=YEARLY;BYDAY=1SU;BYMONTH=11
TZNAME:PST
TZOFFSETFROM:-0700
TZOFFSETTO:-0800
END:STANDARD
BEGIN:DAYLIGHT
DTSTART:20250309T020000
RRULE:FREQ=YEARLY;BYDAY=2SU;BYMONTH=3
TZNAME:PDT
TZOFFSETFROM:-0800
TZOFFSETTO:-0700
END:DAYLIGHT
END:VTIMEZONE
BEGIN:VEVENT
DESCRIPTION:2022 Annual Meeting by the American Academy of Neurology\n\nTi
 tle: Poster Session 10\n\nAccess URL: https://www.aan.com/msa/Public/Even
 ts/GetEventURL/14698\n\nLearn More About This Event: https://www.aan.com/
 msa/Public/Events/Details/14698
DTEND;TZID=Pacific Standard Time:20220405T090000
DTSTAMP:20260424T054033Z
DTSTART;TZID=Pacific Standard Time:20220405T080000
LOCATION:https://www.aan.com/msa/Public/Events/GetEventURL/14698
SEQUENCE:0
SUMMARY:AAN: Poster Session 10
UID:be7b03af-e4b7-4f95-9710-23f42ef19e6a
END:VEVENT
END:VCALENDAR
