BEGIN:VCALENDAR
PRODID:-//github.com/rianjs/ical.net//NONSGML ical.net 4.0//EN
VERSION:2.0
BEGIN:VTIMEZONE
TZID:Pacific Standard Time
X-LIC-LOCATION:America/Los_Angeles
BEGIN:STANDARD
DTSTART:20241103T020000
RRULE:FREQ=YEARLY;BYDAY=1SU;BYMONTH=11
TZNAME:PST
TZOFFSETFROM:-0700
TZOFFSETTO:-0800
END:STANDARD
BEGIN:DAYLIGHT
DTSTART:20250309T020000
RRULE:FREQ=YEARLY;BYDAY=2SU;BYMONTH=3
TZNAME:PDT
TZOFFSETFROM:-0800
TZOFFSETTO:-0700
END:DAYLIGHT
END:VTIMEZONE
BEGIN:VEVENT
DESCRIPTION:2022 Annual Meeting by the American Academy of Neurology\n\nTi
 tle: What I Wish I Had Known Prior to Finishing Residency or Fellowship\n
 \nAccess URL: https://www.aan.com/msa/Public/Events/GetEventURL/14711\n\n
 Learn More About This Event: https://www.aan.com/msa/Public/Events/Detail
 s/14711
DTEND;TZID=Pacific Standard Time:20220403T090000
DTSTAMP:20260424T054210Z
DTSTART;TZID=Pacific Standard Time:20220403T083000
LOCATION:https://www.aan.com/msa/Public/Events/GetEventURL/14711
SEQUENCE:0
SUMMARY:AAN: What I Wish I Had Known Prior to Finishing Residency or Fello
 wship
UID:6950fa24-0e5e-4098-9016-6f334faa2e9d
END:VEVENT
END:VCALENDAR
