BEGIN:VCALENDAR
PRODID:-//github.com/rianjs/ical.net//NONSGML ical.net 4.0//EN
VERSION:2.0
BEGIN:VTIMEZONE
TZID:Pacific Standard Time
X-LIC-LOCATION:America/Los_Angeles
BEGIN:STANDARD
DTSTART:20241103T020000
RRULE:FREQ=YEARLY;BYDAY=1SU;BYMONTH=11
TZNAME:PST
TZOFFSETFROM:-0700
TZOFFSETTO:-0800
END:STANDARD
BEGIN:DAYLIGHT
DTSTART:20250309T020000
RRULE:FREQ=YEARLY;BYDAY=2SU;BYMONTH=3
TZNAME:PDT
TZOFFSETFROM:-0800
TZOFFSETTO:-0700
END:DAYLIGHT
END:VTIMEZONE
BEGIN:VEVENT
DESCRIPTION:2022 Annual Meeting by the American Academy of Neurology\n\nTi
 tle: Industry Therapeutic Update from Allergan\, an AbbVie company: A por
 tfolio of treatments for migraine patients\n\nAccess URL: https://www.aan
 .com/msa/Public/Events/GetEventURL/14723\n\nLearn More About This Event: 
 https://www.aan.com/msa/Public/Events/Details/14723
DTEND;TZID=Pacific Standard Time:20220405T220000
DTSTAMP:20260424T054211Z
DTSTART;TZID=Pacific Standard Time:20220405T190000
LOCATION:https://www.aan.com/msa/Public/Events/GetEventURL/14723
SEQUENCE:0
SUMMARY:AAN: Industry Therapeutic Update from Allergan\, an AbbVie company
 : A portfolio of treatments for migraine patients
UID:7ae8ddc8-d77e-401b-a9e2-db4f5792e08e
END:VEVENT
END:VCALENDAR
