BEGIN:VCALENDAR
PRODID:-//github.com/rianjs/ical.net//NONSGML ical.net 4.0//EN
VERSION:2.0
BEGIN:VTIMEZONE
TZID:Pacific Standard Time
X-LIC-LOCATION:America/Los_Angeles
BEGIN:STANDARD
DTSTART:20241103T020000
RRULE:FREQ=YEARLY;BYDAY=1SU;BYMONTH=11
TZNAME:PST
TZOFFSETFROM:-0700
TZOFFSETTO:-0800
END:STANDARD
BEGIN:DAYLIGHT
DTSTART:20250309T020000
RRULE:FREQ=YEARLY;BYDAY=2SU;BYMONTH=3
TZNAME:PDT
TZOFFSETFROM:-0800
TZOFFSETTO:-0700
END:DAYLIGHT
END:VTIMEZONE
BEGIN:VEVENT
DESCRIPTION:2022 Annual Meeting by the American Academy of Neurology\n\nTi
 tle: How to Navigate the Meeting\n\nAccess URL: https://www.aan.com/msa/P
 ublic/Events/GetEventURL/14742\n\nLearn More About This Event: https://ww
 w.aan.com/msa/Public/Events/Details/14742
DTEND;TZID=Pacific Standard Time:20220402T120000
DTSTAMP:20260424T054210Z
DTSTART;TZID=Pacific Standard Time:20220402T113000
LOCATION:https://www.aan.com/msa/Public/Events/GetEventURL/14742
SEQUENCE:0
SUMMARY:AAN: How to Navigate the Meeting
UID:4d22666c-2958-4504-9e8e-b66f15912118
END:VEVENT
END:VCALENDAR
