BEGIN:VCALENDAR
PRODID:-//github.com/rianjs/ical.net//NONSGML ical.net 4.0//EN
VERSION:2.0
BEGIN:VTIMEZONE
TZID:Pacific Standard Time
X-LIC-LOCATION:America/Los_Angeles
BEGIN:STANDARD
DTSTART:20241103T020000
RRULE:FREQ=YEARLY;BYDAY=1SU;BYMONTH=11
TZNAME:PST
TZOFFSETFROM:-0700
TZOFFSETTO:-0800
END:STANDARD
BEGIN:DAYLIGHT
DTSTART:20250309T020000
RRULE:FREQ=YEARLY;BYDAY=2SU;BYMONTH=3
TZNAME:PDT
TZOFFSETFROM:-0800
TZOFFSETTO:-0700
END:DAYLIGHT
END:VTIMEZONE
BEGIN:VEVENT
DESCRIPTION:2022 Annual Meeting by the American Academy of Neurology\n\nTi
 tle: Iranian American Neurological Association Networking Event\n\nDescri
 ption: Iranian American neurological association (IANA) is a Facebook gro
 up that is open to neurologists currently practicing in the United States
  who are originally from the country of Iran. This ICW is a networking ev
 ent so the members can get to know each other in person and can collabora
 te further to provide the Farsi-speaking patient population with a higher
  quality of care. Also\, we are planning to initiate a chapter for Irania
 n American Neurologists at the AAN if possible in the near future and nee
 d to discuss this issue at this gathering as well. \n\nLearn More About T
 his Event: https://www.aan.com/msa/Public/Events/Details/14784
DTEND;TZID=Pacific Standard Time:20220404T213000
DTSTAMP:20260424T054207Z
DTSTART;TZID=Pacific Standard Time:20220404T193000
LOCATION:https://www.aan.com/msa/Public/Events/GetEventURL/14784
SEQUENCE:0
SUMMARY:AAN: Iranian American Neurological Association Networking Event
UID:763e9676-ec38-4656-9abe-bbb4e0fa5aa5
END:VEVENT
END:VCALENDAR
